BEGIN:VCALENDAR
VERSION:2.0
PRODID:-//sjcschargers.com//NONSGML kigkonsult.se iCalcreator 2.30.10//
CALSCALE:GREGORIAN
METHOD:PUBLISH
UID:e60afd92-0dae-43cb-a389-abca3c08b84d
X-WR-CALDESC:
X-WR-RELCALID:6b088963e7774593cb286b20d3d6d3fa
X-WR-TIMEZONE:America/New_York
BEGIN:VTIMEZONE
TZID:America/New_York
BEGIN:STANDARD
TZNAME:EST
DTSTART:20221106T020000
TZOFFSETFROM:-0400
TZOFFSETTO:-0500
RDATE:20231105T020000
END:STANDARD
BEGIN:DAYLIGHT
TZNAME:EDT
DTSTART:20220313T020000
TZOFFSETFROM:-0500
TZOFFSETTO:-0400
RDATE:20230312T020000
RDATE:20240310T020000
END:DAYLIGHT
END:VTIMEZONE
BEGIN:VEVENT
UID:4083af23-5c58-4201-88ba-7253a962efad
DTSTAMP:20260424T173147Z
DESCRIPTION:
DTSTART;TZID=America/New_York:20221207T000000
DTEND;TZID=America/New_York:20221207T235900
LOCATION:
SUMMARY:No School Mass today (moved to tomorrow)
END:VEVENT
END:VCALENDAR
