BEGIN:VCALENDAR
VERSION:2.0
PRODID:-//sjcschargers.com//NONSGML kigkonsult.se iCalcreator 2.30.10//
CALSCALE:GREGORIAN
METHOD:PUBLISH
UID:17d5efb2-17d8-4ca9-b9fe-bc3db8da7eac
X-WR-CALDESC:
X-WR-RELCALID:f743d5b25855e1f046809f86771cd108
X-WR-TIMEZONE:America/New_York
BEGIN:VTIMEZONE
TZID:America/New_York
BEGIN:STANDARD
TZNAME:EST
DTSTART:20221106T020000
TZOFFSETFROM:-0400
TZOFFSETTO:-0500
RDATE:20231105T020000
END:STANDARD
BEGIN:DAYLIGHT
TZNAME:EDT
DTSTART:20220313T020000
TZOFFSETFROM:-0500
TZOFFSETTO:-0400
RDATE:20230312T020000
RDATE:20240310T020000
END:DAYLIGHT
END:VTIMEZONE
BEGIN:VEVENT
UID:c0b63fff-dc18-4bc5-81b8-cb3f4a90ed75
DTSTAMP:20260424T173022Z
DESCRIPTION:
DTSTART;TZID=America/New_York:20221208T154500
DTEND;TZID=America/New_York:20221208T164500
LOCATION:
SUMMARY:Boys BB @ Home JV 3:45 V 4:45
END:VEVENT
END:VCALENDAR
