BEGIN:VCALENDAR
VERSION:2.0
PRODID:-//sjcschargers.com//NONSGML kigkonsult.se iCalcreator 2.30.10//
CALSCALE:GREGORIAN
METHOD:PUBLISH
UID:0cd5f307-c4fe-4292-b9bf-860096b287e8
X-WR-CALDESC:
X-WR-RELCALID:7c0eb9e2295cf95f32d373d9ffb3c925
X-WR-TIMEZONE:America/New_York
BEGIN:VTIMEZONE
TZID:America/New_York
BEGIN:STANDARD
TZNAME:EST
DTSTART:20221106T020000
TZOFFSETFROM:-0400
TZOFFSETTO:-0500
RDATE:20231105T020000
END:STANDARD
BEGIN:DAYLIGHT
TZNAME:EDT
DTSTART:20220313T020000
TZOFFSETFROM:-0500
TZOFFSETTO:-0400
RDATE:20230312T020000
RDATE:20240310T020000
END:DAYLIGHT
END:VTIMEZONE
BEGIN:VEVENT
UID:3176f91c-2306-4249-92a3-dd580f07e091
DTSTAMP:20260424T173920Z
DESCRIPTION:
DTSTART;TZID=America/New_York:20221213T000000
DTEND;TZID=America/New_York:20221213T235900
LOCATION:
SUMMARY:1B Prayer Service
END:VEVENT
END:VCALENDAR
