BEGIN:VCALENDAR
VERSION:2.0
PRODID:-//sjcschargers.com//NONSGML kigkonsult.se iCalcreator 2.30.10//
CALSCALE:GREGORIAN
METHOD:PUBLISH
UID:0998f513-28b3-4df3-9dda-5d73181d685b
X-WR-CALDESC:
X-WR-RELCALID:661f16f1aa421c642f62142062392318
X-WR-TIMEZONE:America/New_York
BEGIN:VTIMEZONE
TZID:America/New_York
BEGIN:STANDARD
TZNAME:EST
DTSTART:20221106T020000
TZOFFSETFROM:-0400
TZOFFSETTO:-0500
RDATE:20231105T020000
END:STANDARD
BEGIN:DAYLIGHT
TZNAME:EDT
DTSTART:20220313T020000
TZOFFSETFROM:-0500
TZOFFSETTO:-0400
RDATE:20230312T020000
RDATE:20240310T020000
END:DAYLIGHT
END:VTIMEZONE
BEGIN:VEVENT
UID:f1b04848-b3dc-4550-9d85-f6e05349ec78
DTSTAMP:20260424T173155Z
DESCRIPTION:
DTSTART;TZID=America/New_York:20221216T000000
DTEND;TZID=America/New_York:20221216T235900
LOCATION:
SUMMARY:Half Day - No Extended Day
END:VEVENT
END:VCALENDAR
