BEGIN:VCALENDAR
VERSION:2.0
PRODID:-//sjcschargers.com//NONSGML kigkonsult.se iCalcreator 2.30.10//
CALSCALE:GREGORIAN
METHOD:PUBLISH
UID:6bc1522d-717c-49e7-b7df-c2e075f13c4c
X-WR-CALDESC:
X-WR-RELCALID:c8252610b350af9e1a63743509cb7c03
X-WR-TIMEZONE:America/New_York
BEGIN:VTIMEZONE
TZID:America/New_York
BEGIN:STANDARD
TZNAME:EST
DTSTART:20221106T020000
TZOFFSETFROM:-0400
TZOFFSETTO:-0500
RDATE:20231105T020000
END:STANDARD
BEGIN:DAYLIGHT
TZNAME:EDT
DTSTART:20220313T020000
TZOFFSETFROM:-0500
TZOFFSETTO:-0400
RDATE:20230312T020000
RDATE:20240310T020000
END:DAYLIGHT
END:VTIMEZONE
BEGIN:VEVENT
UID:907e1755-5007-4dc5-954c-a5ed68d2420d
DTSTAMP:20260424T173937Z
DESCRIPTION:
DTSTART;TZID=America/New_York:20221216T000000
DTEND;TZID=America/New_York:20221216T235900
LOCATION:
SUMMARY:Prayer Service (faculty)
END:VEVENT
END:VCALENDAR
