BEGIN:VCALENDAR
VERSION:2.0
PRODID:-//sjcschargers.com//NONSGML kigkonsult.se iCalcreator 2.30.10//
CALSCALE:GREGORIAN
METHOD:PUBLISH
UID:29d4a72f-5157-4c4d-ac8e-04c579403386
X-WR-CALDESC:
X-WR-RELCALID:876b33b7d0764bbd8530452945de5e9f
X-WR-TIMEZONE:America/New_York
BEGIN:VTIMEZONE
TZID:America/New_York
BEGIN:STANDARD
TZNAME:EST
DTSTART:20221106T020000
TZOFFSETFROM:-0400
TZOFFSETTO:-0500
RDATE:20231105T020000
END:STANDARD
BEGIN:DAYLIGHT
TZNAME:EDT
DTSTART:20220313T020000
TZOFFSETFROM:-0500
TZOFFSETTO:-0400
RDATE:20230312T020000
RDATE:20240310T020000
END:DAYLIGHT
END:VTIMEZONE
BEGIN:VEVENT
UID:4fa2a033-eba2-4842-91c3-8fb701982788
DTSTAMP:20260424T155121Z
DESCRIPTION:
DTSTART;TZID=America/New_York:20221219T000000
DTEND;TZID=America/New_York:20230102T235900
LOCATION:
SUMMARY:Christmas Break
END:VEVENT
END:VCALENDAR
