BEGIN:VCALENDAR
VERSION:2.0
PRODID:-//sjcschargers.com//NONSGML kigkonsult.se iCalcreator 2.30.10//
CALSCALE:GREGORIAN
METHOD:PUBLISH
UID:23641793-2d9b-46d0-bd93-5e427b0ea841
X-WR-CALDESC:
X-WR-RELCALID:93f46c19954927bedfbf74af050e7dcb
X-WR-TIMEZONE:America/New_York
BEGIN:VTIMEZONE
TZID:America/New_York
BEGIN:STANDARD
TZNAME:EST
DTSTART:20221106T020000
TZOFFSETFROM:-0400
TZOFFSETTO:-0500
RDATE:20231105T020000
END:STANDARD
BEGIN:DAYLIGHT
TZNAME:EDT
DTSTART:20220313T020000
TZOFFSETFROM:-0500
TZOFFSETTO:-0400
RDATE:20230312T020000
RDATE:20240310T020000
END:DAYLIGHT
END:VTIMEZONE
BEGIN:VEVENT
UID:b323a255-07f8-4402-a29d-8b28c7071aa9
DTSTAMP:20260424T155729Z
DESCRIPTION:
DTSTART;TZID=America/New_York:20230131T000000
DTEND;TZID=America/New_York:20230131T235900
LOCATION:
SUMMARY:Celebrate Priests and Sisters Day
END:VEVENT
END:VCALENDAR
