BEGIN:VCALENDAR
VERSION:2.0
PRODID:-//sjcschargers.com//NONSGML kigkonsult.se iCalcreator 2.30.10//
CALSCALE:GREGORIAN
METHOD:PUBLISH
UID:e3469ac3-6834-420c-ac74-161e11f75810
X-WR-CALDESC:
X-WR-RELCALID:8e591fdfbed420040531e7164a8aefd5
X-WR-TIMEZONE:America/New_York
BEGIN:VTIMEZONE
TZID:America/New_York
BEGIN:STANDARD
TZNAME:EST
DTSTART:20221106T020000
TZOFFSETFROM:-0400
TZOFFSETTO:-0500
RDATE:20231105T020000
END:STANDARD
BEGIN:DAYLIGHT
TZNAME:EDT
DTSTART:20220313T020000
TZOFFSETFROM:-0500
TZOFFSETTO:-0400
RDATE:20230312T020000
RDATE:20240310T020000
END:DAYLIGHT
END:VTIMEZONE
BEGIN:VEVENT
UID:eb934f68-aaa8-4cc3-8115-1ae86e69757b
DTSTAMP:20260424T141201Z
DESCRIPTION:
DTSTART;TZID=America/New_York:20230201T083000
DTEND;TZID=America/New_York:20230201T103000
LOCATION:
SUMMARY:Grandparents' Day--Mass & Reception
END:VEVENT
END:VCALENDAR
