BEGIN:VCALENDAR
VERSION:2.0
PRODID:-//sjcschargers.com//NONSGML kigkonsult.se iCalcreator 2.30.10//
CALSCALE:GREGORIAN
METHOD:PUBLISH
UID:77f39c64-6b1d-47fd-86f9-0093771bd029
X-WR-CALDESC:
X-WR-RELCALID:856063da270d09b05ed1ac461015aee9
X-WR-TIMEZONE:America/New_York
BEGIN:VTIMEZONE
TZID:America/New_York
BEGIN:STANDARD
TZNAME:EST
DTSTART:20221106T020000
TZOFFSETFROM:-0400
TZOFFSETTO:-0500
RDATE:20231105T020000
END:STANDARD
BEGIN:DAYLIGHT
TZNAME:EDT
DTSTART:20220313T020000
TZOFFSETFROM:-0500
TZOFFSETTO:-0400
RDATE:20230312T020000
RDATE:20240310T020000
END:DAYLIGHT
END:VTIMEZONE
BEGIN:VEVENT
UID:c3b39553-e167-4ee2-8229-396e8407c933
DTSTAMP:20260424T141145Z
DESCRIPTION:
DTSTART;TZID=America/New_York:20230204T000000
DTEND;TZID=America/New_York:20230204T235900
LOCATION:
SUMMARY:Italian Night 5pm
END:VEVENT
END:VCALENDAR
