BEGIN:VCALENDAR
VERSION:2.0
PRODID:-//sjcschargers.com//NONSGML kigkonsult.se iCalcreator 2.30.10//
CALSCALE:GREGORIAN
METHOD:PUBLISH
UID:c1592dd5-5d63-48ab-a678-a2cccaea29a8
X-WR-CALDESC:
X-WR-RELCALID:d13636b41d77a26ab90fb5290aaccfc9
X-WR-TIMEZONE:America/New_York
BEGIN:VTIMEZONE
TZID:America/New_York
BEGIN:STANDARD
TZNAME:EST
DTSTART:20221106T020000
TZOFFSETFROM:-0400
TZOFFSETTO:-0500
RDATE:20231105T020000
END:STANDARD
BEGIN:DAYLIGHT
TZNAME:EDT
DTSTART:20220313T020000
TZOFFSETFROM:-0500
TZOFFSETTO:-0400
RDATE:20230312T020000
RDATE:20240310T020000
END:DAYLIGHT
END:VTIMEZONE
BEGIN:VEVENT
UID:aaa68a9d-7e68-4b10-9b76-90b5c40c9887
DTSTAMP:20260424T141201Z
DESCRIPTION:
DTSTART;TZID=America/New_York:20230211T000000
DTEND;TZID=America/New_York:20230211T235900
LOCATION:
SUMMARY:Father Daughter Dance
END:VEVENT
END:VCALENDAR
