BEGIN:VCALENDAR
VERSION:2.0
PRODID:-//sjcschargers.com//NONSGML kigkonsult.se iCalcreator 2.30.10//
CALSCALE:GREGORIAN
METHOD:PUBLISH
UID:af91de8f-bff7-4d8a-96f6-e44c6815a6d4
X-WR-CALDESC:
X-WR-RELCALID:770e4cff543ccb33b4549901ab76876b
X-WR-TIMEZONE:America/New_York
BEGIN:VTIMEZONE
TZID:America/New_York
BEGIN:STANDARD
TZNAME:EST
DTSTART:20221106T020000
TZOFFSETFROM:-0400
TZOFFSETTO:-0500
RDATE:20231105T020000
END:STANDARD
BEGIN:DAYLIGHT
TZNAME:EDT
DTSTART:20220313T020000
TZOFFSETFROM:-0500
TZOFFSETTO:-0400
RDATE:20230312T020000
RDATE:20240310T020000
END:DAYLIGHT
END:VTIMEZONE
BEGIN:VEVENT
UID:9c4b81e7-0480-4af9-9177-f470e4b13c84
DTSTAMP:20260424T141049Z
DESCRIPTION:
DTSTART;TZID=America/New_York:20230214T000000
DTEND;TZID=America/New_York:20230214T235900
LOCATION:
SUMMARY:1A Prayer Service
END:VEVENT
END:VCALENDAR
