BEGIN:VCALENDAR
VERSION:2.0
PRODID:-//sjcschargers.com//NONSGML kigkonsult.se iCalcreator 2.30.10//
CALSCALE:GREGORIAN
METHOD:PUBLISH
UID:ccaf8b36-a931-4dc1-be49-2ccbc6e97b49
X-WR-CALDESC:
X-WR-RELCALID:433798da70f7b449cd28a060e000e125
X-WR-TIMEZONE:America/New_York
BEGIN:VTIMEZONE
TZID:America/New_York
BEGIN:STANDARD
TZNAME:EST
DTSTART:20221106T020000
TZOFFSETFROM:-0400
TZOFFSETTO:-0500
RDATE:20231105T020000
END:STANDARD
BEGIN:DAYLIGHT
TZNAME:EDT
DTSTART:20220313T020000
TZOFFSETFROM:-0500
TZOFFSETTO:-0400
RDATE:20230312T020000
RDATE:20240310T020000
END:DAYLIGHT
END:VTIMEZONE
BEGIN:VEVENT
UID:f3af22b0-84a8-4d01-a371-5017affb43df
DTSTAMP:20260424T141308Z
DESCRIPTION:
DTSTART;TZID=America/New_York:20230217T000000
DTEND;TZID=America/New_York:20230217T235900
LOCATION:
SUMMARY:No School - Diocesan Professional Day
END:VEVENT
END:VCALENDAR
