BEGIN:VCALENDAR
VERSION:2.0
PRODID:-//sjcschargers.com//NONSGML kigkonsult.se iCalcreator 2.30.10//
CALSCALE:GREGORIAN
METHOD:PUBLISH
UID:2090aab2-14fd-4927-9310-c64dc9c97f49
X-WR-CALDESC:
X-WR-RELCALID:91119f744baf32709b3cc85021a1f761
X-WR-TIMEZONE:America/New_York
BEGIN:VTIMEZONE
TZID:America/New_York
BEGIN:STANDARD
TZNAME:EST
DTSTART:20221106T020000
TZOFFSETFROM:-0400
TZOFFSETTO:-0500
RDATE:20231105T020000
END:STANDARD
BEGIN:DAYLIGHT
TZNAME:EDT
DTSTART:20230312T020000
TZOFFSETFROM:-0500
TZOFFSETTO:-0400
RDATE:20240310T020000
END:DAYLIGHT
END:VTIMEZONE
BEGIN:VEVENT
UID:5882b56c-9cd1-4e36-93a7-94c8cf13b870
DTSTAMP:20260424T112118Z
DESCRIPTION:
DTSTART;TZID=America/New_York:20230401T000000
DTEND;TZID=America/New_York:20230401T235900
LOCATION:
SUMMARY:Mother Son Event
END:VEVENT
END:VCALENDAR
