BEGIN:VCALENDAR
VERSION:2.0
PRODID:-//sjcschargers.com//NONSGML kigkonsult.se iCalcreator 2.30.10//
CALSCALE:GREGORIAN
METHOD:PUBLISH
UID:631f45c6-88f3-433b-86e2-4ef34e7999a5
X-WR-CALDESC:
X-WR-RELCALID:8bd9b9062f5a6acacc9c6e29655e5579
X-WR-TIMEZONE:America/New_York
BEGIN:VTIMEZONE
TZID:America/New_York
BEGIN:STANDARD
TZNAME:EST
DTSTART:20221106T020000
TZOFFSETFROM:-0400
TZOFFSETTO:-0500
RDATE:20231105T020000
END:STANDARD
BEGIN:DAYLIGHT
TZNAME:EDT
DTSTART:20230312T020000
TZOFFSETFROM:-0500
TZOFFSETTO:-0400
RDATE:20240310T020000
END:DAYLIGHT
END:VTIMEZONE
BEGIN:VEVENT
UID:440f5ab0-3748-42f9-9c14-f17be08a9d0e
DTSTAMP:20260424T112042Z
DESCRIPTION:
DTSTART;TZID=America/New_York:20230407T000000
DTEND;TZID=America/New_York:20230407T235900
LOCATION:
SUMMARY:No School - Good Friday
END:VEVENT
END:VCALENDAR
