BEGIN:VCALENDAR
VERSION:2.0
PRODID:-//sjcschargers.com//NONSGML kigkonsult.se iCalcreator 2.30.10//
CALSCALE:GREGORIAN
METHOD:PUBLISH
UID:17136eb5-f66e-4579-8164-33b86038d31a
X-WR-CALDESC:Boys @ Home vs First Baptist 4pm
X-WR-RELCALID:c7cb6501f43d4a9530b849eb792e858d
X-WR-TIMEZONE:America/New_York
BEGIN:VTIMEZONE
TZID:America/New_York
BEGIN:STANDARD
TZNAME:EST
DTSTART:20221106T020000
TZOFFSETFROM:-0400
TZOFFSETTO:-0500
RDATE:20231105T020000
END:STANDARD
BEGIN:DAYLIGHT
TZNAME:EDT
DTSTART:20230312T020000
TZOFFSETFROM:-0500
TZOFFSETTO:-0400
RDATE:20240310T020000
END:DAYLIGHT
END:VTIMEZONE
BEGIN:VEVENT
UID:9b2b9d33-feb3-41f9-b458-aa1bf3a0e99b
DTSTAMP:20260424T112521Z
DESCRIPTION:Boys @ Home vs First Baptist 4pm
DTSTART;TZID=America/New_York:20230413T103000
DTEND;TZID=America/New_York:20230413T113000
LOCATION:
SUMMARY:Flag Football Game
END:VEVENT
END:VCALENDAR
