BEGIN:VCALENDAR
VERSION:2.0
PRODID:-//sjcschargers.com//NONSGML kigkonsult.se iCalcreator 2.30.10//
CALSCALE:GREGORIAN
METHOD:PUBLISH
UID:3f9bc2c5-c144-4a3f-bfea-b85623965d2c
X-WR-CALDESC:
X-WR-RELCALID:6a175c2aae3b8156f002cc68d8045518
X-WR-TIMEZONE:America/New_York
BEGIN:VTIMEZONE
TZID:America/New_York
BEGIN:STANDARD
TZNAME:EST
DTSTART:20221106T020000
TZOFFSETFROM:-0400
TZOFFSETTO:-0500
RDATE:20231105T020000
END:STANDARD
BEGIN:DAYLIGHT
TZNAME:EDT
DTSTART:20230312T020000
TZOFFSETFROM:-0500
TZOFFSETTO:-0400
RDATE:20240310T020000
END:DAYLIGHT
END:VTIMEZONE
BEGIN:VEVENT
UID:197ebe6c-197d-45a9-9207-a7e6619776fb
DTSTAMP:20260424T110900Z
DESCRIPTION:
DTSTART;TZID=America/New_York:20230414T000000
DTEND;TZID=America/New_York:20230414T235900
LOCATION:
SUMMARY:Charger 5K
END:VEVENT
END:VCALENDAR
