BEGIN:VCALENDAR
VERSION:2.0
PRODID:-//sjcschargers.com//NONSGML kigkonsult.se iCalcreator 2.30.10//
CALSCALE:GREGORIAN
METHOD:PUBLISH
UID:31f5cb30-f016-41ea-b323-a0bb53b810b5
X-WR-CALDESC:Girls @ Home vs Morningside 4pm\; Boys @ Home vs Morningside 5
 pm
X-WR-RELCALID:403884490d077126ea2d273363e4df59
X-WR-TIMEZONE:America/New_York
BEGIN:VTIMEZONE
TZID:America/New_York
BEGIN:STANDARD
TZNAME:EST
DTSTART:20221106T020000
TZOFFSETFROM:-0400
TZOFFSETTO:-0500
RDATE:20231105T020000
END:STANDARD
BEGIN:DAYLIGHT
TZNAME:EDT
DTSTART:20230312T020000
TZOFFSETFROM:-0500
TZOFFSETTO:-0400
RDATE:20240310T020000
END:DAYLIGHT
END:VTIMEZONE
BEGIN:VEVENT
UID:1fcbed00-65a3-476d-afc3-d0a7e03e18e4
DTSTAMP:20260424T112653Z
DESCRIPTION:Girls @ Home vs Morningside 4pm\; Boys @ Home vs Morningside 5p
 m
DTSTART;TZID=America/New_York:20230420T000000
DTEND;TZID=America/New_York:20230420T235900
LOCATION:
SUMMARY:Flag Football Games
END:VEVENT
END:VCALENDAR
