BEGIN:VCALENDAR
VERSION:2.0
PRODID:-//sjcschargers.com//NONSGML kigkonsult.se iCalcreator 2.30.10//
CALSCALE:GREGORIAN
METHOD:PUBLISH
UID:3706e366-6e05-420b-9656-f46c9d15dd4a
X-WR-CALDESC:Boys @ Home vs St. Helen 4pm
X-WR-RELCALID:f6e4bb0be274b9676b138d743427ee08
X-WR-TIMEZONE:America/New_York
BEGIN:VTIMEZONE
TZID:America/New_York
BEGIN:STANDARD
TZNAME:EST
DTSTART:20221106T020000
TZOFFSETFROM:-0400
TZOFFSETTO:-0500
RDATE:20231105T020000
END:STANDARD
BEGIN:DAYLIGHT
TZNAME:EDT
DTSTART:20230312T020000
TZOFFSETFROM:-0500
TZOFFSETTO:-0400
RDATE:20240310T020000
END:DAYLIGHT
END:VTIMEZONE
BEGIN:VEVENT
UID:c3b1a324-8b3a-44e7-b7e0-984429cc4d5d
DTSTAMP:20260424T111151Z
DESCRIPTION:Boys @ Home vs St. Helen 4pm
DTSTART;TZID=America/New_York:20230426T000000
DTEND;TZID=America/New_York:20230426T235900
LOCATION:
SUMMARY:Flag Football Game
END:VEVENT
END:VCALENDAR
