BEGIN:VCALENDAR
VERSION:2.0
PRODID:-//sjcschargers.com//NONSGML kigkonsult.se iCalcreator 2.30.10//
CALSCALE:GREGORIAN
METHOD:PUBLISH
UID:3a2ef3b9-3b37-45cb-aed1-68b8c6f2d800
X-WR-CALDESC:
X-WR-RELCALID:d15f329d056c35d4019451c56b38ed33
X-WR-TIMEZONE:America/New_York
BEGIN:VTIMEZONE
TZID:America/New_York
BEGIN:STANDARD
TZNAME:EST
DTSTART:20221106T020000
TZOFFSETFROM:-0400
TZOFFSETTO:-0500
RDATE:20231105T020000
END:STANDARD
BEGIN:DAYLIGHT
TZNAME:EDT
DTSTART:20230312T020000
TZOFFSETFROM:-0500
TZOFFSETTO:-0400
RDATE:20240310T020000
END:DAYLIGHT
END:VTIMEZONE
BEGIN:VEVENT
UID:8c2a5b54-e15c-4ac2-9779-8ddb25c7b99f
DTSTAMP:20260424T111605Z
DESCRIPTION:
DTSTART;TZID=America/New_York:20230430T000000
DTEND;TZID=America/New_York:20230430T235900
LOCATION:
SUMMARY:First Holy Communion
END:VEVENT
END:VCALENDAR
