BEGIN:VCALENDAR
VERSION:2.0
PRODID:-//sjcschargers.com//NONSGML kigkonsult.se iCalcreator 2.30.10//
CALSCALE:GREGORIAN
METHOD:PUBLISH
UID:422f3f64-a712-4587-be24-4be10935ed0b
X-WR-CALDESC:
X-WR-RELCALID:5e88bc1c68ecec299ed0564146e94aa9
X-WR-TIMEZONE:America/New_York
BEGIN:VTIMEZONE
TZID:America/New_York
BEGIN:STANDARD
TZNAME:EST
DTSTART:20221106T020000
TZOFFSETFROM:-0400
TZOFFSETTO:-0500
RDATE:20231105T020000
RDATE:20241103T020000
END:STANDARD
BEGIN:DAYLIGHT
TZNAME:EDT
DTSTART:20230312T020000
TZOFFSETFROM:-0500
TZOFFSETTO:-0400
RDATE:20240310T020000
END:DAYLIGHT
END:VTIMEZONE
BEGIN:VEVENT
UID:041783c3-d43d-44ea-950d-0bb98c1c559c
DTSTAMP:20260424T095616Z
DESCRIPTION:
DTSTART;TZID=America/New_York:20230518T000000
DTEND;TZID=America/New_York:20230518T235900
LOCATION:
SUMMARY:H&S Quarterly Parent Meeting 6pm
END:VEVENT
END:VCALENDAR
