BEGIN:VCALENDAR
VERSION:2.0
PRODID:-//sjcschargers.com//NONSGML kigkonsult.se iCalcreator 2.30.10//
CALSCALE:GREGORIAN
METHOD:PUBLISH
UID:10ed983e-5256-44a4-98ae-4bdaa3ae07e7
X-WR-CALDESC:Families wishing to avail of Extended Day services at SJCS mus
 t register and pay the registration fee online. \n\nThe cost to register i
 s $75 per family. The monthly cost for Extended Day will be incidentally b
 illed through FACTS\; therefore\, families using Extended Day must also ha
 ve a FACTS account set up with incidental billing. The school will not acc
 ept checks or cash. \n\nThe cost for part time Extended Day students (1-3 
 days/week) is $150 per student each month. The cost for full time Extended
  Day (4-5 days/week) is $200 per student each month. Each additional full 
 time sibling costs $175 per student each month.
X-WR-RELCALID:ba8d2e3611437977cc5e0e478d4f3402
X-WR-TIMEZONE:America/New_York
BEGIN:VTIMEZONE
TZID:America/New_York
BEGIN:STANDARD
TZNAME:EST
DTSTART:20221106T020000
TZOFFSETFROM:-0400
TZOFFSETTO:-0500
RDATE:20231105T020000
RDATE:20241103T020000
END:STANDARD
BEGIN:DAYLIGHT
TZNAME:EDT
DTSTART:20230312T020000
TZOFFSETFROM:-0500
TZOFFSETTO:-0400
RDATE:20240310T020000
END:DAYLIGHT
END:VTIMEZONE
BEGIN:VEVENT
UID:29276755-d401-468c-938b-33e8892553d3
DTSTAMP:20260422T090052Z
DESCRIPTION:Families wishing to avail of Extended Day services at SJCS must
  register and pay the registration fee online. \n\nThe cost to register is
  $75 per family. The monthly cost for Extended Day will be incidentally bi
 lled through FACTS\; therefore\, families using Extended Day must also hav
 e a FACTS account set up with incidental billing. The school will not acce
 pt checks or cash. \n\nThe cost for part time Extended Day students (1-3 d
 ays/week) is $150 per student each month. The cost for full time Extended 
 Day (4-5 days/week) is $200 per student each month. Each additional full t
 ime sibling costs $175 per student each month.
DTSTART;TZID=America/New_York:20230809T000000
DTEND;TZID=America/New_York:20230809T010000
LOCATION:
SUMMARY:Extended Day Registration
END:VEVENT
END:VCALENDAR
