BEGIN:VCALENDAR
VERSION:2.0
PRODID:-//sjcschargers.com//NONSGML kigkonsult.se iCalcreator 2.30.10//
CALSCALE:GREGORIAN
METHOD:PUBLISH
UID:989b950c-da32-44f6-9445-643acceeae30
X-WR-CALDESC:St. Joseph's Annual Fall Festival is a TWO day event this year
 --October 21 and 22. \n\nPurchase tickets here through 10/16 (5:00 p.m. de
 adline) for 10% off--discount is already reflected in price.\n\nFun for th
 e whole family! Rides\, games\, food\, entertainment. \n\nWe will send the
  ticket package home with your child on Wednesday\, October 18th\; otherwi
 se purchases can be picked up at the school office or the day of the event
  at the ticket booth.\n\nAll sales are FINAL--no rainchecks\, refunds\, ex
 changes\, or returns.
X-WR-RELCALID:9abfe4c4be876fc9b55c5687aec6ab7f
X-WR-TIMEZONE:America/New_York
BEGIN:VTIMEZONE
TZID:America/New_York
BEGIN:STANDARD
TZNAME:EST
DTSTART:20221106T020000
TZOFFSETFROM:-0400
TZOFFSETTO:-0500
RDATE:20231105T020000
RDATE:20241103T020000
END:STANDARD
BEGIN:DAYLIGHT
TZNAME:EDT
DTSTART:20230312T020000
TZOFFSETFROM:-0500
TZOFFSETTO:-0400
RDATE:20240310T020000
RDATE:20250309T020000
END:DAYLIGHT
END:VTIMEZONE
BEGIN:VEVENT
UID:1b4449aa-2511-492c-8d60-c9217336b261
DTSTAMP:20260422T052138Z
DESCRIPTION:St. Joseph's Annual Fall Festival is a TWO day event this year-
 -October 21 and 22. \n\nPurchase tickets here through 10/16 (5:00 p.m. dea
 dline) for 10% off--discount is already reflected in price.\n\nFun for the
  whole family! Rides\, games\, food\, entertainment. \n\nWe will send the 
 ticket package home with your child on Wednesday\, October 18th\; otherwis
 e purchases can be picked up at the school office or the day of the event 
 at the ticket booth.\n\nAll sales are FINAL--no rainchecks\, refunds\, exc
 hanges\, or returns.
DTSTART;TZID=America/New_York:20231016T170000
DTEND;TZID=America/New_York:20231016T173000
LOCATION:
SUMMARY:Fall Festival Tickets Purchase Deadline
END:VEVENT
END:VCALENDAR
