BEGIN:VCALENDAR
VERSION:2.0
PRODID:-//sjcschargers.com//NONSGML kigkonsult.se iCalcreator 2.30.10//
CALSCALE:GREGORIAN
METHOD:PUBLISH
UID:e62a4649-d66f-4c9e-b35b-d66f8a97c551
X-WR-CALDESC:Home & School Mtg followed by Social Media Expert for Parents 
 (2 service hours given for attendance)
X-WR-RELCALID:a0b0734642bd82084424a269fd9b94c1
X-WR-TIMEZONE:America/New_York
BEGIN:VTIMEZONE
TZID:America/New_York
BEGIN:STANDARD
TZNAME:EST
DTSTART:20231105T020000
TZOFFSETFROM:-0400
TZOFFSETTO:-0500
RDATE:20241103T020000
RDATE:20251102T020000
END:STANDARD
BEGIN:DAYLIGHT
TZNAME:EDT
DTSTART:20240310T020000
TZOFFSETFROM:-0500
TZOFFSETTO:-0400
RDATE:20250309T020000
END:DAYLIGHT
END:VTIMEZONE
BEGIN:VEVENT
UID:00fe39fd-9b43-4922-aeb0-8aa9bf808fcb
DTSTAMP:20260421T120139Z
DESCRIPTION:Home & School Mtg followed by Social Media Expert for Parents (
 2 service hours given for attendance)
DTSTART;TZID=America/New_York:20240815T173000
DTEND;TZID=America/New_York:20240815T190000
LOCATION:1200 Southeast 10th Street\, Family Center\, Stuart\, FL 34996 US
SUMMARY:Home & School Mtg/Social Media Speaker for parents
END:VEVENT
END:VCALENDAR
