BEGIN:VCALENDAR
VERSION:2.0
PRODID:-//sjcschargers.com//NONSGML kigkonsult.se iCalcreator 2.30.10//
CALSCALE:GREGORIAN
METHOD:PUBLISH
UID:86d0d7af-2536-4621-8fd2-dded688c85e7
X-WR-CALDESC:
X-WR-RELCALID:2821ae8136f985ba0e0774052d1434f8
X-WR-TIMEZONE:America/New_York
BEGIN:VTIMEZONE
TZID:America/New_York
BEGIN:STANDARD
TZNAME:EST
DTSTART:20231105T020000
TZOFFSETFROM:-0400
TZOFFSETTO:-0500
RDATE:20241103T020000
RDATE:20251102T020000
END:STANDARD
BEGIN:DAYLIGHT
TZNAME:EDT
DTSTART:20240310T020000
TZOFFSETFROM:-0500
TZOFFSETTO:-0400
RDATE:20250309T020000
END:DAYLIGHT
END:VTIMEZONE
BEGIN:VEVENT
UID:514896cb-e84c-4c2f-8b7e-9db0303bd8b4
DTSTAMP:20260421T120353Z
DESCRIPTION:
DTSTART;TZID=America/New_York:20240828T083000
DTEND;TZID=America/New_York:20240828T093000
LOCATION:1200 SE 10th Street\, Stuart\, FL 34994 US
SUMMARY:All School Mass 7B
END:VEVENT
END:VCALENDAR
