BEGIN:VCALENDAR
VERSION:2.0
PRODID:-//sjcschargers.com//NONSGML kigkonsult.se iCalcreator 2.30.10//
CALSCALE:GREGORIAN
METHOD:PUBLISH
UID:2a616e74-e0b8-4730-a39d-93800911c02d
X-WR-CALDESC:
X-WR-RELCALID:d73dde1d9fa7a1cf0f3ad79fb04924ae
X-WR-TIMEZONE:America/New_York
BEGIN:VTIMEZONE
TZID:America/New_York
BEGIN:STANDARD
TZNAME:EST
DTSTART:20231105T020000
TZOFFSETFROM:-0400
TZOFFSETTO:-0500
RDATE:20241103T020000
RDATE:20251102T020000
END:STANDARD
BEGIN:DAYLIGHT
TZNAME:EDT
DTSTART:20240310T020000
TZOFFSETFROM:-0500
TZOFFSETTO:-0400
RDATE:20250309T020000
END:DAYLIGHT
END:VTIMEZONE
BEGIN:VEVENT
UID:f12fc08d-4c01-47fe-bf09-b6b6bcc3ae03
DTSTAMP:20260421T101855Z
DESCRIPTION:
DTSTART;TZID=America/New_York:20240902T073000
DTEND;TZID=America/New_York:20240902T153000
LOCATION:1200 SE 10th Street\, Stuart\, AL 34994 US
SUMMARY:Labor Day - NO SCHOOL
END:VEVENT
END:VCALENDAR
