BEGIN:VCALENDAR
VERSION:2.0
PRODID:-//sjcschargers.com//NONSGML kigkonsult.se iCalcreator 2.30.10//
CALSCALE:GREGORIAN
METHOD:PUBLISH
UID:447eceb8-9b78-46b9-a117-d09a5e4ddc22
X-WR-CALDESC:
X-WR-RELCALID:1a02731c3c341a7ed2729e1e704e76da
X-WR-TIMEZONE:America/New_York
BEGIN:VTIMEZONE
TZID:America/New_York
BEGIN:STANDARD
TZNAME:EST
DTSTART:20231105T020000
TZOFFSETFROM:-0400
TZOFFSETTO:-0500
RDATE:20241103T020000
RDATE:20251102T020000
END:STANDARD
BEGIN:DAYLIGHT
TZNAME:EDT
DTSTART:20240310T020000
TZOFFSETFROM:-0500
TZOFFSETTO:-0400
RDATE:20250309T020000
RDATE:20260308T020000
END:DAYLIGHT
END:VTIMEZONE
BEGIN:VEVENT
UID:3317be48-c43e-4717-865d-b33bdead0d49
DTSTAMP:20260421T105949Z
DESCRIPTION:
DTSTART;TZID=America/New_York:20240906T180000
DTEND;TZID=America/New_York:20240906T220000
LOCATION:1200 SE 10th Street\, Stuart\, FL 34994 US
SUMMARY:Friday Night Lights Football Game for SJCS @ John Carroll High Scho
 ol
END:VEVENT
END:VCALENDAR
