BEGIN:VCALENDAR
VERSION:2.0
PRODID:-//sjcschargers.com//NONSGML kigkonsult.se iCalcreator 2.30.10//
CALSCALE:GREGORIAN
METHOD:PUBLISH
UID:43d0b589-da12-43b1-b126-e7d3cb328818
X-WR-CALDESC:Noon Dismissal including Faith & Fellowship
X-WR-RELCALID:aa8c6787038212a59a9166aa2a7e68c0
X-WR-TIMEZONE:America/New_York
BEGIN:VTIMEZONE
TZID:America/New_York
BEGIN:STANDARD
TZNAME:EST
DTSTART:20231105T020000
TZOFFSETFROM:-0400
TZOFFSETTO:-0500
RDATE:20241103T020000
RDATE:20251102T020000
END:STANDARD
BEGIN:DAYLIGHT
TZNAME:EDT
DTSTART:20240310T020000
TZOFFSETFROM:-0500
TZOFFSETTO:-0400
RDATE:20250309T020000
RDATE:20260308T020000
END:DAYLIGHT
END:VTIMEZONE
BEGIN:VEVENT
UID:4505f017-c776-4d9f-ae4d-2c7448131874
DTSTAMP:20260421T101503Z
DESCRIPTION:Noon Dismissal including Faith & Fellowship
DTSTART;TZID=America/New_York:20240906T073000
DTEND;TZID=America/New_York:20240906T120000
LOCATION:1200 SE 10th Street\, Stuart\, FL 34994 US
SUMMARY:Half Day Noon Dismissal
END:VEVENT
END:VCALENDAR
