BEGIN:VCALENDAR
VERSION:2.0
PRODID:-//sjcschargers.com//NONSGML kigkonsult.se iCalcreator 2.30.10//
CALSCALE:GREGORIAN
METHOD:PUBLISH
UID:8401b2bd-9eed-4142-9fb0-4b0b65eb6ec5
X-WR-CALDESC:
X-WR-RELCALID:c7f7ec5cb69d25611e4e2eba18d6a2ad
X-WR-TIMEZONE:America/New_York
BEGIN:VTIMEZONE
TZID:America/New_York
BEGIN:STANDARD
TZNAME:EST
DTSTART:20231105T020000
TZOFFSETFROM:-0400
TZOFFSETTO:-0500
RDATE:20241103T020000
RDATE:20251102T020000
END:STANDARD
BEGIN:DAYLIGHT
TZNAME:EDT
DTSTART:20240310T020000
TZOFFSETFROM:-0500
TZOFFSETTO:-0400
RDATE:20250309T020000
RDATE:20260308T020000
END:DAYLIGHT
END:VTIMEZONE
BEGIN:VEVENT
UID:a392c4c4-18d3-43eb-8b14-2df7995ae133
DTSTAMP:20260421T095758Z
DESCRIPTION:
DTSTART;TZID=America/New_York:20240906T150000
DTEND;TZID=America/New_York:20240906T160000
LOCATION:1200 SE 10th Street\, Stuart\, FL 34994 US
SUMMARY:STAR Assessments Sent Home
END:VEVENT
END:VCALENDAR
