BEGIN:VCALENDAR
VERSION:2.0
PRODID:-//sjcschargers.com//NONSGML kigkonsult.se iCalcreator 2.30.10//
CALSCALE:GREGORIAN
METHOD:PUBLISH
UID:b884229c-039c-47ff-8058-109098546868
X-WR-CALDESC:
X-WR-RELCALID:bf0def7804fdd21049d6ab22a30cba69
X-WR-TIMEZONE:America/New_York
BEGIN:VTIMEZONE
TZID:America/New_York
BEGIN:STANDARD
TZNAME:EST
DTSTART:20231105T020000
TZOFFSETFROM:-0400
TZOFFSETTO:-0500
RDATE:20241103T020000
RDATE:20251102T020000
END:STANDARD
BEGIN:DAYLIGHT
TZNAME:EDT
DTSTART:20240310T020000
TZOFFSETFROM:-0500
TZOFFSETTO:-0400
RDATE:20250309T020000
RDATE:20260308T020000
END:DAYLIGHT
END:VTIMEZONE
BEGIN:VEVENT
UID:6158f2f1-06b3-4180-9eba-25dc33f4f693
DTSTAMP:20260421T103237Z
DESCRIPTION:
DTSTART;TZID=America/New_York:20240906T120000
DTEND;TZID=America/New_York:20240906T160000
LOCATION:1200 SE 10th Street\, Stuart\, FL 34994 US
SUMMARY:Willy Wonka Auditions
END:VEVENT
END:VCALENDAR
