BEGIN:VCALENDAR
VERSION:2.0
PRODID:-//sjcschargers.com//NONSGML kigkonsult.se iCalcreator 2.30.10//
CALSCALE:GREGORIAN
METHOD:PUBLISH
UID:15b73753-ae30-46e5-9cc0-2113e8f1e63d
X-WR-CALDESC:
X-WR-RELCALID:e6a931af65e1601c197c8572b17146f5
X-WR-TIMEZONE:America/New_York
BEGIN:VTIMEZONE
TZID:America/New_York
BEGIN:STANDARD
TZNAME:EST
DTSTART:20231105T020000
TZOFFSETFROM:-0400
TZOFFSETTO:-0500
RDATE:20241103T020000
RDATE:20251102T020000
END:STANDARD
BEGIN:DAYLIGHT
TZNAME:EDT
DTSTART:20240310T020000
TZOFFSETFROM:-0500
TZOFFSETTO:-0400
RDATE:20250309T020000
RDATE:20260308T020000
END:DAYLIGHT
END:VTIMEZONE
BEGIN:VEVENT
UID:5f4521ae-8a9b-4079-ad8c-b2b3558afb44
DTSTAMP:20260425T102239Z
DESCRIPTION:
DTSTART;TZID=America/New_York:20240913T150000
DTEND;TZID=America/New_York:20240913T170000
LOCATION:1200 SE 10th Street\, Stuart\, FL 34994 US
SUMMARY:Willy Wonka Rehearsal in Gym
END:VEVENT
END:VCALENDAR
