BEGIN:VCALENDAR
VERSION:2.0
PRODID:-//sjcschargers.com//NONSGML kigkonsult.se iCalcreator 2.30.10//
CALSCALE:GREGORIAN
METHOD:PUBLISH
UID:c2f0f5f8-1efd-4b5f-a81b-eb6ddcb29411
X-WR-CALDESC:
X-WR-RELCALID:50aab0af33f60f04d7282467437b2268
X-WR-TIMEZONE:America/New_York
BEGIN:VTIMEZONE
TZID:America/New_York
BEGIN:STANDARD
TZNAME:EST
DTSTART:20231105T020000
TZOFFSETFROM:-0400
TZOFFSETTO:-0500
RDATE:20241103T020000
RDATE:20251102T020000
END:STANDARD
BEGIN:DAYLIGHT
TZNAME:EDT
DTSTART:20240310T020000
TZOFFSETFROM:-0500
TZOFFSETTO:-0400
RDATE:20250309T020000
RDATE:20260308T020000
END:DAYLIGHT
END:VTIMEZONE
BEGIN:VEVENT
UID:1456a8c4-547d-4348-a88c-8e069ffe1d37
DTSTAMP:20260421T101320Z
DESCRIPTION:
DTSTART;TZID=America/New_York:20240918T073000
DTEND;TZID=America/New_York:20240918T153000
LOCATION:1200 SE 10th Street\, Stuart\, FL 34994 US
SUMMARY:Focused on Forever Fall Pictures
END:VEVENT
END:VCALENDAR
