BEGIN:VCALENDAR
VERSION:2.0
PRODID:-//sjcschargers.com//NONSGML kigkonsult.se iCalcreator 2.30.10//
CALSCALE:GREGORIAN
METHOD:PUBLISH
UID:91ec0ad7-e980-406d-a0c7-3d086a4b4858
X-WR-CALDESC:
X-WR-RELCALID:a89713fe0279c6f6dab6a09df961e34c
X-WR-TIMEZONE:America/New_York
BEGIN:VTIMEZONE
TZID:America/New_York
BEGIN:STANDARD
TZNAME:EST
DTSTART:20231105T020000
TZOFFSETFROM:-0400
TZOFFSETTO:-0500
RDATE:20241103T020000
RDATE:20251102T020000
END:STANDARD
BEGIN:DAYLIGHT
TZNAME:EDT
DTSTART:20240310T020000
TZOFFSETFROM:-0500
TZOFFSETTO:-0400
RDATE:20250309T020000
RDATE:20260308T020000
END:DAYLIGHT
END:VTIMEZONE
BEGIN:VEVENT
UID:c199a3ce-7daf-45f6-8fb8-045deea56f86
DTSTAMP:20260425T103901Z
DESCRIPTION:
DTSTART;TZID=America/New_York:20240920T150000
DTEND;TZID=America/New_York:20240920T170000
LOCATION:1200 SE 10th Street\, Stuart\, FL 34994 US
SUMMARY:Willy Wonka Rehearsal in Gym
END:VEVENT
END:VCALENDAR
