BEGIN:VCALENDAR
VERSION:2.0
PRODID:-//sjcschargers.com//NONSGML kigkonsult.se iCalcreator 2.30.10//
CALSCALE:GREGORIAN
METHOD:PUBLISH
UID:2977cf52-94c4-4802-a86f-f7ddc04c5ad9
X-WR-CALDESC:
X-WR-RELCALID:78e71bb71ec164b85f1a0774b7cb427f
X-WR-TIMEZONE:America/New_York
BEGIN:VTIMEZONE
TZID:America/New_York
BEGIN:STANDARD
TZNAME:EST
DTSTART:20231105T020000
TZOFFSETFROM:-0400
TZOFFSETTO:-0500
RDATE:20241103T020000
RDATE:20251102T020000
END:STANDARD
BEGIN:DAYLIGHT
TZNAME:EDT
DTSTART:20240310T020000
TZOFFSETFROM:-0500
TZOFFSETTO:-0400
RDATE:20250309T020000
RDATE:20260308T020000
END:DAYLIGHT
END:VTIMEZONE
BEGIN:VEVENT
UID:838955be-be9b-4be2-9018-04bd2e6ee206
DTSTAMP:20260425T102403Z
DESCRIPTION:
DTSTART;TZID=America/New_York:20240926T160000
DTEND;TZID=America/New_York:20240926T210000
LOCATION:1729 SE Indain Street\, Stuart\, FL 34997 US
SUMMARY:Restaurant Give Back Night @ Hurricane Grill & Wings
END:VEVENT
END:VCALENDAR
