BEGIN:VCALENDAR
VERSION:2.0
PRODID:-//sjcschargers.com//NONSGML kigkonsult.se iCalcreator 2.30.10//
CALSCALE:GREGORIAN
METHOD:PUBLISH
UID:52a61b7f-6255-42b8-bd8e-36178c93579e
X-WR-CALDESC:
X-WR-RELCALID:a57a2817ab44162b84ae90c154645fd0
X-WR-TIMEZONE:America/New_York
BEGIN:VTIMEZONE
TZID:America/New_York
BEGIN:STANDARD
TZNAME:EST
DTSTART:20231105T020000
TZOFFSETFROM:-0400
TZOFFSETTO:-0500
RDATE:20241103T020000
RDATE:20251102T020000
END:STANDARD
BEGIN:DAYLIGHT
TZNAME:EDT
DTSTART:20240310T020000
TZOFFSETFROM:-0500
TZOFFSETTO:-0400
RDATE:20250309T020000
RDATE:20260308T020000
END:DAYLIGHT
END:VTIMEZONE
BEGIN:VEVENT
UID:d75fc66c-e9c2-4400-a197-bc65270976ea
DTSTAMP:20260421T100644Z
DESCRIPTION:
DTSTART;TZID=America/New_York:20240927T180000
DTEND;TZID=America/New_York:20240927T210000
LOCATION:1200 SE 10th Street\, Stuart\, FL 34994 US
SUMMARY:Pizza\, Popcorn and Movie Night in Family Center
END:VEVENT
END:VCALENDAR
