BEGIN:VCALENDAR
VERSION:2.0
PRODID:-//sjcschargers.com//NONSGML kigkonsult.se iCalcreator 2.30.10//
CALSCALE:GREGORIAN
METHOD:PUBLISH
UID:3cbc4287-9e21-4a3d-9cd6-e8e81948532e
X-WR-CALDESC:
X-WR-RELCALID:12b86c26a6e79d9c5bdeff202093c4ef
X-WR-TIMEZONE:America/New_York
BEGIN:VTIMEZONE
TZID:America/New_York
BEGIN:STANDARD
TZNAME:EST
DTSTART:20231105T020000
TZOFFSETFROM:-0400
TZOFFSETTO:-0500
RDATE:20241103T020000
RDATE:20251102T020000
END:STANDARD
BEGIN:DAYLIGHT
TZNAME:EDT
DTSTART:20240310T020000
TZOFFSETFROM:-0500
TZOFFSETTO:-0400
RDATE:20250309T020000
RDATE:20260308T020000
END:DAYLIGHT
END:VTIMEZONE
BEGIN:VEVENT
UID:3e653a72-2209-4668-a505-0dd6efd5d5b0
DTSTAMP:20260421T085820Z
DESCRIPTION:
DTSTART;TZID=America/New_York:20241001T073000
DTEND;TZID=America/New_York:20241001T150000
LOCATION:1200 SE 10th Street\, Stuart\, FL 34994 US
SUMMARY:Spirit Day
END:VEVENT
END:VCALENDAR
