BEGIN:VCALENDAR
VERSION:2.0
PRODID:-//sjcschargers.com//NONSGML kigkonsult.se iCalcreator 2.30.10//
CALSCALE:GREGORIAN
METHOD:PUBLISH
UID:f1dd769f-d4db-4974-a0da-59072bea8d7f
X-WR-CALDESC:
X-WR-RELCALID:dfe4e2d21106bfc20473adcb18163f3f
X-WR-TIMEZONE:America/New_York
BEGIN:VTIMEZONE
TZID:America/New_York
BEGIN:STANDARD
TZNAME:EST
DTSTART:20231105T020000
TZOFFSETFROM:-0400
TZOFFSETTO:-0500
RDATE:20241103T020000
RDATE:20251102T020000
END:STANDARD
BEGIN:DAYLIGHT
TZNAME:EDT
DTSTART:20240310T020000
TZOFFSETFROM:-0500
TZOFFSETTO:-0400
RDATE:20250309T020000
RDATE:20260308T020000
END:DAYLIGHT
END:VTIMEZONE
BEGIN:VEVENT
UID:3bdef2b5-480b-443d-ab44-e7d2e07bdb65
DTSTAMP:20260421T084937Z
DESCRIPTION:
DTSTART;TZID=America/New_York:20241006T120000
DTEND;TZID=America/New_York:20241006T160000
LOCATION:1200 SE 10th Street\, Stuart\, FL 34994 US
SUMMARY:Willy Wonka Rehearsal in Gym
END:VEVENT
END:VCALENDAR
