BEGIN:VCALENDAR
VERSION:2.0
PRODID:-//sjcschargers.com//NONSGML kigkonsult.se iCalcreator 2.30.10//
CALSCALE:GREGORIAN
METHOD:PUBLISH
UID:2bb0dfa9-0352-47b8-8207-aeb0486ac29a
X-WR-CALDESC:
X-WR-RELCALID:d9ebfa95258d52a9cb3a05a9de8deaea
X-WR-TIMEZONE:America/New_York
BEGIN:VTIMEZONE
TZID:America/New_York
BEGIN:STANDARD
TZNAME:EST
DTSTART:20231105T020000
TZOFFSETFROM:-0400
TZOFFSETTO:-0500
RDATE:20241103T020000
RDATE:20251102T020000
END:STANDARD
BEGIN:DAYLIGHT
TZNAME:EDT
DTSTART:20240310T020000
TZOFFSETFROM:-0500
TZOFFSETTO:-0400
RDATE:20250309T020000
RDATE:20260308T020000
END:DAYLIGHT
END:VTIMEZONE
BEGIN:VEVENT
UID:3eced08a-d95b-40f3-8f10-cfc3d24af853
DTSTAMP:20260421T085506Z
DESCRIPTION:
DTSTART;TZID=America/New_York:20241011T060000
DTEND;TZID=America/New_York:20241011T060001
LOCATION:1200 SE 10th Street\, Stuart\, FL 34994 US
SUMMARY:End of Quarter 1
END:VEVENT
END:VCALENDAR
