BEGIN:VCALENDAR
VERSION:2.0
PRODID:-//sjcschargers.com//NONSGML kigkonsult.se iCalcreator 2.30.10//
CALSCALE:GREGORIAN
METHOD:PUBLISH
UID:24eca617-6b34-4f5e-b71b-dfbfae4a8d8a
X-WR-CALDESC:
X-WR-RELCALID:f3a07a9b31d87c8937efa3b16adb75e7
X-WR-TIMEZONE:America/New_York
BEGIN:VTIMEZONE
TZID:America/New_York
BEGIN:STANDARD
TZNAME:EST
DTSTART:20231105T020000
TZOFFSETFROM:-0400
TZOFFSETTO:-0500
RDATE:20241103T020000
RDATE:20251102T020000
END:STANDARD
BEGIN:DAYLIGHT
TZNAME:EDT
DTSTART:20240310T020000
TZOFFSETFROM:-0500
TZOFFSETTO:-0400
RDATE:20250309T020000
RDATE:20260308T020000
END:DAYLIGHT
END:VTIMEZONE
BEGIN:VEVENT
UID:c74527c9-e792-4606-85aa-4162bdbb63c4
DTSTAMP:20260421T085147Z
DESCRIPTION:
DTSTART;TZID=America/New_York:20241016T083000
DTEND;TZID=America/New_York:20241016T093000
LOCATION:1200 SE 10th Street\, Stuart\, FL 34996 US
SUMMARY:All School Mass 5B
END:VEVENT
END:VCALENDAR
