BEGIN:VCALENDAR
VERSION:2.0
PRODID:-//sjcschargers.com//NONSGML kigkonsult.se iCalcreator 2.30.10//
CALSCALE:GREGORIAN
METHOD:PUBLISH
UID:fedd26ca-4a67-4e8b-a1be-769c2eb60b17
X-WR-CALDESC:
X-WR-RELCALID:67508e7beab86f072c7a2aa2f8a710ae
X-WR-TIMEZONE:America/New_York
BEGIN:VTIMEZONE
TZID:America/New_York
BEGIN:STANDARD
TZNAME:EST
DTSTART:20231105T020000
TZOFFSETFROM:-0400
TZOFFSETTO:-0500
RDATE:20241103T020000
RDATE:20251102T020000
END:STANDARD
BEGIN:DAYLIGHT
TZNAME:EDT
DTSTART:20240310T020000
TZOFFSETFROM:-0500
TZOFFSETTO:-0400
RDATE:20250309T020000
RDATE:20260308T020000
END:DAYLIGHT
END:VTIMEZONE
BEGIN:VEVENT
UID:f1a04803-3697-4ff6-980c-8e8d59dc54bd
DTSTAMP:20260421T083504Z
DESCRIPTION:
DTSTART;TZID=America/New_York:20241019T060000
DTEND;TZID=America/New_York:20241020T060001
LOCATION:1200 SE 10th Street\, Stuart\, FL 34996 US
SUMMARY:Fall Festival
END:VEVENT
END:VCALENDAR
