BEGIN:VCALENDAR
VERSION:2.0
PRODID:-//sjcschargers.com//NONSGML kigkonsult.se iCalcreator 2.30.10//
CALSCALE:GREGORIAN
METHOD:PUBLISH
UID:8e480718-4599-4ed1-89ef-61c3e09da2c7
X-WR-CALDESC:
X-WR-RELCALID:877e7fd13cff064013dba19128e7efcd
X-WR-TIMEZONE:America/New_York
BEGIN:VTIMEZONE
TZID:America/New_York
BEGIN:STANDARD
TZNAME:EST
DTSTART:20231105T020000
TZOFFSETFROM:-0400
TZOFFSETTO:-0500
RDATE:20241103T020000
RDATE:20251102T020000
END:STANDARD
BEGIN:DAYLIGHT
TZNAME:EDT
DTSTART:20240310T020000
TZOFFSETFROM:-0500
TZOFFSETTO:-0400
RDATE:20250309T020000
RDATE:20260308T020000
END:DAYLIGHT
END:VTIMEZONE
BEGIN:VEVENT
UID:c43268b1-33ee-4cda-9fdc-12f92707c1ac
DTSTAMP:20260421T090605Z
DESCRIPTION:
DTSTART;TZID=America/New_York:20241021T070000
DTEND;TZID=America/New_York:20241025T150000
LOCATION:1200 SE 10th Street\, Stuart\, FL 34996 US
SUMMARY:Star Math Assessments for Quarter 2
END:VEVENT
END:VCALENDAR
