BEGIN:VCALENDAR
VERSION:2.0
PRODID:-//sjcschargers.com//NONSGML kigkonsult.se iCalcreator 2.30.10//
CALSCALE:GREGORIAN
METHOD:PUBLISH
UID:7c322a7b-5f37-426a-9c04-9040441ad1c4
X-WR-CALDESC:
X-WR-RELCALID:9b56efd024e80853da99a3a221f4bc63
X-WR-TIMEZONE:America/New_York
BEGIN:VTIMEZONE
TZID:America/New_York
BEGIN:STANDARD
TZNAME:EST
DTSTART:20231105T020000
TZOFFSETFROM:-0400
TZOFFSETTO:-0500
RDATE:20241103T020000
RDATE:20251102T020000
END:STANDARD
BEGIN:DAYLIGHT
TZNAME:EDT
DTSTART:20240310T020000
TZOFFSETFROM:-0500
TZOFFSETTO:-0400
RDATE:20250309T020000
RDATE:20260308T020000
END:DAYLIGHT
END:VTIMEZONE
BEGIN:VEVENT
UID:e023f507-4c50-4e2c-853f-cee815914269
DTSTAMP:20260421T083954Z
DESCRIPTION:
DTSTART;TZID=America/New_York:20241027T120000
DTEND;TZID=America/New_York:20241027T160000
LOCATION:1200 SE 10th Street\, Stuart\, FL 34996 US
SUMMARY:Willy Wonka Rehearsal in Gym
END:VEVENT
END:VCALENDAR
