BEGIN:VCALENDAR
VERSION:2.0
PRODID:-//sjcschargers.com//NONSGML kigkonsult.se iCalcreator 2.30.10//
CALSCALE:GREGORIAN
METHOD:PUBLISH
UID:e3fb9955-0748-425d-abe3-24ec668d1e0a
X-WR-CALDESC:
X-WR-RELCALID:f62bec182fe3fab9f753af6e33f7128a
X-WR-TIMEZONE:America/New_York
BEGIN:VTIMEZONE
TZID:America/New_York
BEGIN:STANDARD
TZNAME:EST
DTSTART:20231105T020000
TZOFFSETFROM:-0400
TZOFFSETTO:-0500
RDATE:20241103T020000
RDATE:20251102T020000
END:STANDARD
BEGIN:DAYLIGHT
TZNAME:EDT
DTSTART:20240310T020000
TZOFFSETFROM:-0500
TZOFFSETTO:-0400
RDATE:20250309T020000
RDATE:20260308T020000
END:DAYLIGHT
END:VTIMEZONE
BEGIN:VEVENT
UID:09025768-7d30-434b-ae61-46a9162b9ed8
DTSTAMP:20260421T083331Z
DESCRIPTION:
DTSTART;TZID=America/New_York:20241030T083000
DTEND;TZID=America/New_York:20241030T093000
LOCATION:1200 SE 10th Street\, Stuart\, FL 34996 US
SUMMARY:All School Mass 4B
END:VEVENT
END:VCALENDAR
