BEGIN:VCALENDAR
VERSION:2.0
PRODID:-//sjcschargers.com//NONSGML kigkonsult.se iCalcreator 2.30.10//
CALSCALE:GREGORIAN
METHOD:PUBLISH
UID:b3b6bc83-bb8f-4f7e-b596-e2248c954b8a
X-WR-CALDESC:
X-WR-RELCALID:4f7e9f33fb95cc443945a17000449f4d
X-WR-TIMEZONE:America/New_York
BEGIN:VTIMEZONE
TZID:America/New_York
BEGIN:STANDARD
TZNAME:EST
DTSTART:20231105T020000
TZOFFSETFROM:-0400
TZOFFSETTO:-0500
RDATE:20241103T020000
RDATE:20251102T020000
END:STANDARD
BEGIN:DAYLIGHT
TZNAME:EDT
DTSTART:20240310T020000
TZOFFSETFROM:-0500
TZOFFSETTO:-0400
RDATE:20250309T020000
RDATE:20260308T020000
END:DAYLIGHT
END:VTIMEZONE
BEGIN:VEVENT
UID:69993f2f-f263-47bb-9974-212579642a5a
DTSTAMP:20260421T090605Z
DESCRIPTION:
DTSTART;TZID=America/New_York:20241031T083000
DTEND;TZID=America/New_York:20241031T103000
LOCATION:1200 SE 10th Street\, Stuart\, FL 34996 US
SUMMARY:Halloween Costume Parade for LL through Kindergarten
END:VEVENT
END:VCALENDAR
